BEGIN:VCALENDAR
VERSION:2.0
PRODID:-//Devotion To Children - ECPv6.15.20//NONSGML v1.0//EN
CALSCALE:GREGORIAN
METHOD:PUBLISH
X-WR-CALNAME:Devotion To Children
X-ORIGINAL-URL:https://www.devotiontochildren.org
X-WR-CALDESC:Events for Devotion To Children
REFRESH-INTERVAL;VALUE=DURATION:PT1H
X-Robots-Tag:noindex
X-PUBLISHED-TTL:PT1H
BEGIN:VTIMEZONE
TZID:America/New_York
BEGIN:DAYLIGHT
TZOFFSETFROM:-0500
TZOFFSETTO:-0400
TZNAME:EDT
DTSTART:20200308T070000
END:DAYLIGHT
BEGIN:STANDARD
TZOFFSETFROM:-0400
TZOFFSETTO:-0500
TZNAME:EST
DTSTART:20201101T060000
END:STANDARD
BEGIN:DAYLIGHT
TZOFFSETFROM:-0500
TZOFFSETTO:-0400
TZNAME:EDT
DTSTART:20210314T070000
END:DAYLIGHT
BEGIN:STANDARD
TZOFFSETFROM:-0400
TZOFFSETTO:-0500
TZNAME:EST
DTSTART:20211107T060000
END:STANDARD
BEGIN:DAYLIGHT
TZOFFSETFROM:-0500
TZOFFSETTO:-0400
TZNAME:EDT
DTSTART:20220313T070000
END:DAYLIGHT
BEGIN:STANDARD
TZOFFSETFROM:-0400
TZOFFSETTO:-0500
TZNAME:EST
DTSTART:20221106T060000
END:STANDARD
BEGIN:DAYLIGHT
TZOFFSETFROM:-0500
TZOFFSETTO:-0400
TZNAME:EDT
DTSTART:20230312T070000
END:DAYLIGHT
BEGIN:STANDARD
TZOFFSETFROM:-0400
TZOFFSETTO:-0500
TZNAME:EST
DTSTART:20231105T060000
END:STANDARD
BEGIN:DAYLIGHT
TZOFFSETFROM:-0500
TZOFFSETTO:-0400
TZNAME:EDT
DTSTART:20240310T070000
END:DAYLIGHT
BEGIN:STANDARD
TZOFFSETFROM:-0400
TZOFFSETTO:-0500
TZNAME:EST
DTSTART:20241103T060000
END:STANDARD
BEGIN:DAYLIGHT
TZOFFSETFROM:-0500
TZOFFSETTO:-0400
TZNAME:EDT
DTSTART:20250309T070000
END:DAYLIGHT
BEGIN:STANDARD
TZOFFSETFROM:-0400
TZOFFSETTO:-0500
TZNAME:EST
DTSTART:20251102T060000
END:STANDARD
BEGIN:DAYLIGHT
TZOFFSETFROM:-0500
TZOFFSETTO:-0400
TZNAME:EDT
DTSTART:20260308T070000
END:DAYLIGHT
BEGIN:STANDARD
TZOFFSETFROM:-0400
TZOFFSETTO:-0500
TZNAME:EST
DTSTART:20261101T060000
END:STANDARD
END:VTIMEZONE
BEGIN:VEVENT
DTSTART;TZID=America/New_York:20250511T080000
DTEND;TZID=America/New_York:20250511T100000
DTSTAMP:20260425T070441
CREATED:20250206T181225Z
LAST-MODIFIED:20260402T210350Z
UID:16740-1746950400-1746957600@www.devotiontochildren.org
SUMMARY:Mother's Day Run
DESCRIPTION:Registration\n\n\n\n\n\n\n\n\n\n\n\n\n\n\n\n\n\n\n\nWe invite you to join our mission at the 16th annual Mother’s Day 4 Miler and 1 Mile Fun Run at 1575 Browns Chapel Rd\, Reston\, VA 20194. A one mile fun run/ walk is also available! The race is a celebration of Mother’s Day and a dedication to all fabulous moms. Guests enjoy a commemorative race shirt\, free high-resolution photos\, and post-race refreshments all while celebrating amazing moms! \n\nOnly with your generosity can we provide the support that can truly make a difference for these disadvantaged families within our community. We sincerely appreciate your consideration and hope to see you at this year’s run! \n\n\n\n\n\n\n\n\n \n\n\n\n\nKindly submit your logo in Vector EPS format (High-resolution EPS or JPG are also acceptable) to Mohit@devotiontochildren.org by April 10\, 2025. \nFor Sponsorship inquiries via email\, please contact Ban@devotiontochildren.org. \n \nChecks may be mailed to: \nDevotion To Children\n1939 Roland Clarke Place Suite 110\nReston\, VA 20191\n\n\n\n\n\n\n\n\n\n\n\n\n\n\n\n\n\n\n\n\n\n\n\n\n\n\n\n\n\nRegister\n\n\nShare on Facebook\n\n\nShare on Twitter
URL:https://www.devotiontochildren.org/event/mothers-day-run-2025/
LOCATION:Browns Chapel Road\, 1575 Browns Chapel Rd\, Reston\, VA\, 20194\, United States
CATEGORIES:Charity
ATTACH;FMTTYPE=image/png:https://www.devotiontochildren.org/wp-content/uploads/2025/02/Screenshot-2025-02-06-at-1.10.55-PM.png
END:VEVENT
BEGIN:VEVENT
DTSTART;TZID=America/New_York:20241122T180000
DTEND;TZID=America/New_York:20241122T230000
DTSTAMP:20260425T070441
CREATED:20240120T184436Z
LAST-MODIFIED:20240926T144522Z
UID:16545-1732298400-1732316400@www.devotiontochildren.org
SUMMARY:30th Red\, Heart & Soul Gala
DESCRIPTION:Devotion To Children’s 30th Anniversary Red\, Heart & Soul Gala at The Ritz-Carlton Hotel in Tysons Corner is our annual fundraising event. A fun-filled and meaningful event with live and silent auctions\, delicious food\, a dance performance by a local children’s organizations\, and more. \nBusiness professionals gather to recognize and appreciate outstanding preschool teachers and local philanthropists for their commitment in supporting Devotion To Children’s mission and program activities. \nATTIRE:\nBlack Tie and Red \n\n\n\n\n\n\n\n\n\n\n\n\n\nRegister\n\n\nBecome a Sponsor\n\n\nVolunteer
URL:https://www.devotiontochildren.org/event/red-heart-soul-gala-2/
LOCATION:Ritz-Carlton\, 1700 Tysons Boulevard\, McLean\, VA\, 22102\, United States
CATEGORIES:Charity
ATTACH;FMTTYPE=image/jpeg:https://www.devotiontochildren.org/wp-content/uploads/2024/01/Image.jpg
END:VEVENT
BEGIN:VEVENT
DTSTART;TZID=America/New_York:20240512T080000
DTEND;TZID=America/New_York:20240512T100000
DTSTAMP:20260425T070441
CREATED:20170514T120000Z
LAST-MODIFIED:20240406T132812Z
UID:10803-1715500800-1715508000@www.devotiontochildren.org
SUMMARY:Mother's Day Run
DESCRIPTION:We invite you to join our mission at the 15th annual Mother’s Day 4 Miler and 1 Mile Fun Run at 1575 Browns Chapel Rd\, Reston\, VA 20194. A one mile fun run/ walk is also available! The race is a celebration of Mother’s Day and a dedication to all fabulous moms. Guests enjoy a commemorative race shirt\, free high-resolution photos\, and post-race refreshments all while celebrating amazing moms! \n\nOnly with your generosity can we provide the support that can truly make a difference for these disadvantaged families within our community. We sincerely appreciate your consideration and hope to see you at this year’s run! \n\n\n\n\n\n\n\n\n \n\n\n\n\nKindly submit your logo in Vector EPS format (High-resolution EPS or JPG are also acceptable) to Ban@devotiontochildren.org by April 10\, 2024. \nFor Sponsorship inquiries via email\, please contact Ban@devotiontochildren.org. \n\nChecks may be mailed to: \nDevotion To Children\n1939 Roland Clarke Place Suite 110\nReston\, VA 20191\n\n\n\n\n\n\n\n\n\n\n\n\n\n\n\n\n \n\n\n\n\n\n\n\n\n\n\n\n\n\nRegister\n\n\nShare on Facebook\n\n\nShare on Twitter
URL:https://www.devotiontochildren.org/event/mothers-day-run/
LOCATION:Browns Chapel Road\, 1575 Browns Chapel Rd\, Reston\, VA\, 20194\, United States
CATEGORIES:Charity
ATTACH;FMTTYPE=image/png:https://www.devotiontochildren.org/wp-content/uploads/2017/05/Screenshot-2024-04-02-at-10.10.37-AM.png
END:VEVENT
BEGIN:VEVENT
DTSTART;TZID=America/New_York:20231110T180000
DTEND;TZID=America/New_York:20231110T230000
DTSTAMP:20260425T070441
CREATED:20170702T120000Z
LAST-MODIFIED:20240918T183404Z
UID:13772-1699639200-1699657200@www.devotiontochildren.org
SUMMARY:29th Red\, Heart & Soul Gala
DESCRIPTION:Devotion To Children’s 29th Anniversary Red\, Heart & Soul Gala at The Ritz-Carlton Hotel in Tysons Corner is our annual fundraising event. A fun-filled and meaningful event with live and silent auctions\, delicious food\, a dance performance by a local children’s organizations\, and more. \nBusiness professionals gather to recognize and appreciate outstanding preschool teachers and local philanthropists for their commitment in supporting Devotion To Children’s mission and program activities. \nATTIRE:\nBlack Tie and Red \n\n\n\n\n\n\n\n\n\n\n\n\n\nRegister\n\n\nBecome a Sponsor\n\n\nVolunteer
URL:https://www.devotiontochildren.org/event/red-heart-soul-gala-old/
LOCATION:Ritz-Carlton\, 1700 Tysons Boulevard\, McLean\, VA\, 22102\, United States
CATEGORIES:Charity
ATTACH;FMTTYPE=image/png:https://www.devotiontochildren.org/wp-content/uploads/2017/07/2023_Red_Heart_Soul_Gala.png
END:VEVENT
BEGIN:VEVENT
DTSTART;TZID=America/New_York:20221118T180000
DTEND;TZID=America/New_York:20221118T230000
DTSTAMP:20260425T070441
CREATED:20230804T181649Z
LAST-MODIFIED:20230806T214006Z
UID:16418-1668794400-1668812400@www.devotiontochildren.org
SUMMARY:28th Red\, Heart & Soul Gala
DESCRIPTION:Devotion To Children’s 28th Anniversary Red\, Heart & Soul Gala is our annual fundraising event. A fun-filled and meaningful event with live and silent auctions\, delicious food\, a dance performance by a local children’s organizations\, and more. \nBusiness professionals gather to recognize and appreciate outstanding preschool teachers and local philanthropists for their commitment in supporting Devotion To Children’s mission and program activities. \nATTIRE:\nBlack tie and red
URL:https://www.devotiontochildren.org/event/28th-red-heart-soul-gala/
CATEGORIES:Charity
ATTACH;FMTTYPE=image/jpeg:https://www.devotiontochildren.org/wp-content/uploads/2023/08/2022-gala.jpg
END:VEVENT
BEGIN:VEVENT
DTSTART;TZID=America/New_York:20211119T180000
DTEND;TZID=America/New_York:20211119T230000
DTSTAMP:20260425T070441
CREATED:20230804T181611Z
LAST-MODIFIED:20230816T145917Z
UID:16416-1637344800-1637362800@www.devotiontochildren.org
SUMMARY:27th Red\, Heart & Soul Gala
DESCRIPTION:Devotion To Children’s 27th Anniversary Red\, Heart & Soul Gala is our annual fundraising event. A fun-filled and meaningful event with live and silent auctions\, delicious food\, a dance performance by a local children’s organizations\, and more. \nBusiness professionals gather to recognize and appreciate outstanding preschool teachers and local philanthropists for their commitment in supporting Devotion To Children’s mission and program activities. \nATTIRE:\nBlack tie and red
URL:https://www.devotiontochildren.org/event/27th-red-heart-soul-gala/
CATEGORIES:Charity
ATTACH;FMTTYPE=image/jpeg:https://www.devotiontochildren.org/wp-content/uploads/2023/08/2021-Invitation.jpg
END:VEVENT
END:VCALENDAR