BEGIN:VCALENDAR
VERSION:2.0
PRODID:-//Devotion To Children - ECPv6.15.20//NONSGML v1.0//EN
CALSCALE:GREGORIAN
METHOD:PUBLISH
X-WR-CALNAME:Devotion To Children
X-ORIGINAL-URL:https://www.devotiontochildren.org
X-WR-CALDESC:Events for Devotion To Children
REFRESH-INTERVAL;VALUE=DURATION:PT1H
X-Robots-Tag:noindex
X-PUBLISHED-TTL:PT1H
BEGIN:VTIMEZONE
TZID:America/New_York
BEGIN:DAYLIGHT
TZOFFSETFROM:-0500
TZOFFSETTO:-0400
TZNAME:EDT
DTSTART:20250309T070000
END:DAYLIGHT
BEGIN:STANDARD
TZOFFSETFROM:-0400
TZOFFSETTO:-0500
TZNAME:EST
DTSTART:20251102T060000
END:STANDARD
BEGIN:DAYLIGHT
TZOFFSETFROM:-0500
TZOFFSETTO:-0400
TZNAME:EDT
DTSTART:20260308T070000
END:DAYLIGHT
BEGIN:STANDARD
TZOFFSETFROM:-0400
TZOFFSETTO:-0500
TZNAME:EST
DTSTART:20261101T060000
END:STANDARD
BEGIN:DAYLIGHT
TZOFFSETFROM:-0500
TZOFFSETTO:-0400
TZNAME:EDT
DTSTART:20270314T070000
END:DAYLIGHT
BEGIN:STANDARD
TZOFFSETFROM:-0400
TZOFFSETTO:-0500
TZNAME:EST
DTSTART:20271107T060000
END:STANDARD
END:VTIMEZONE
BEGIN:VEVENT
DTSTART;TZID=America/New_York:20260510T080000
DTEND;TZID=America/New_York:20260510T100000
DTSTAMP:20260423T122311
CREATED:20260407T161342Z
LAST-MODIFIED:20260417T165114Z
UID:19288-1778400000-1778407200@www.devotiontochildren.org
SUMMARY:Mother’s Day 17th Annual 4 Miler & 1 Miler
DESCRIPTION:Mother’s Day\n            \n            17th Annual 4 Miler & 1 Miler\n            Celebrate the moms who inspire you! Join us for a morning of fun and fitness benefiting Devotion To Children. \n            \n                Date: Sunday\, May 10\, 2026  |  Time: 8:00 AM\n                Location: Browns Chapel Park\, Reston\, VA\n            \n            \n                Register Now\n                \n                Donate / Sponsor\n            \n            \n                Share:\n                \n                    \n                        \n                    \n                \n                \n                    \n                        \n                    \n                \n                \n                    \n                        \n                    \n                \n                \n                    \n                        \n                    \n                \n            \n\n            \n            \n                \n                   \n                Countdown to race day\n                \n            \n        \n    \n\n\n\n\n\n    \n        Why We Run\n        \n        \n            The Mother’s Day Run brings our community together to celebrate the moms and caretakers who inspire us every day. Your participation helps provide access to high‑quality early childhood education programs for children from financially challenged families.\n         \n        \n        \n            Proceeds from the Mother’s Day Run support Devotion To Children’s programs — including tuition assistance\, the Angel Fund tuition assistance program for families in crisis and our annual Children’s Day — helping to break the cycle of poverty and build brighter futures for young learners.\n         \n    \n\n\n\n\n    \n        Race Details\n        \n            \n                Distances\n                Choose between a 4 Miler and a 1 Miler Fun Run. Virtual options are available if you can’t be with us in person. \n            \n            \n                Date & Time\n                Date: Sunday\, May 10\, 2026\n                    Start: 4 Miler – 8:00 AM\n                    1 Miler – 8:05 AM\n                    Price increases after April 10\, 2026 at 11:59 PM. \n            \n            \n                Location\n                \n                    Browns Chapel Park\n                    1686 Browns Chapel Road\,\n                    Reston\, VA 20194\n                \n                \n            \n        \n    \n\n\n\n\n    \n        Runner Perks\n        All pre‑registered participants enjoy a range of perks to make race day special. \n        \n            \n                👕\n                Commemorative Mother’s Day race shirt\n            \n            \n                🏅\n                Unique race bib and finisher medal\n            \n            \n                🍪\n                Post‑race refreshments and snacks\n            \n            \n                📸\n                Free race day photos to download\n            \n            \n                📜\n                Digital finisher certificate\n            \n        \n    \n\n\n\n\n\n    \n        About the Organizer\n        \n            \n                Potomac River Running / PR Races\n                \n                PR Races (Potomac River Running) brings together runners and walkers across Virginia\, Maryland\, and DC through vibrant\, inclusive community events. We’re honored to be the beneficiary of the 17th Annual Mother’s Day 4 Miler and 1 Miler\, organized by PR Races.\n                 \n            \n            \n                \n                \n            \n        \n    \n\n\n\n\n    \n    Learn More About the Run\n        \n            For additional details about the Mother’s Day Run\, including course maps\, registration and race‑day logistics\, please visit PR Races’ official event page.\n         \n        \n            Learn More & Register\n        \n    \n\n\n\n\n\n    \n        Become a Sponsor\n        \n            Your sponsorship directly expands access to quality childcare and early learning opportunities for local families. Sponsorship packages include visibility across print and digital channels and recognition on race day.\n         \n        \n            \n            Sponsor / Donate\n        \n    \n\n\n\n\n    \n        Share Your Sponsorship Logo\n        \n            If you are sponsoring this year’s run\, please share your company or organization logo. Please email your logo to info@devotiontochildren.org so we can include it on the website and promotional materials.\n         \n        \n            Email Your Logo
URL:https://www.devotiontochildren.org/event/run/
CATEGORIES:Charity
ATTACH;FMTTYPE=image/png:https://www.devotiontochildren.org/wp-content/uploads/2026/04/Screenshot-2026-04-07-at-2.24.42-PM.png
END:VEVENT
END:VCALENDAR